BEGIN:VCALENDAR
VERSION:2.0
PRODID:-//Amaro Drom e.V. - ECPv6.15.20//NONSGML v1.0//EN
CALSCALE:GREGORIAN
METHOD:PUBLISH
X-ORIGINAL-URL:https://amarodrom.de
X-WR-CALDESC:Veranstaltungen für Amaro Drom e.V.
REFRESH-INTERVAL;VALUE=DURATION:PT1H
X-Robots-Tag:noindex
X-PUBLISHED-TTL:PT1H
BEGIN:VTIMEZONE
TZID:Europe/Berlin
BEGIN:DAYLIGHT
TZOFFSETFROM:+0100
TZOFFSETTO:+0200
TZNAME:CEST
DTSTART:20250330T010000
END:DAYLIGHT
BEGIN:STANDARD
TZOFFSETFROM:+0200
TZOFFSETTO:+0100
TZNAME:CET
DTSTART:20251026T010000
END:STANDARD
BEGIN:DAYLIGHT
TZOFFSETFROM:+0100
TZOFFSETTO:+0200
TZNAME:CEST
DTSTART:20260329T010000
END:DAYLIGHT
BEGIN:STANDARD
TZOFFSETFROM:+0200
TZOFFSETTO:+0100
TZNAME:CET
DTSTART:20261025T010000
END:STANDARD
BEGIN:DAYLIGHT
TZOFFSETFROM:+0100
TZOFFSETTO:+0200
TZNAME:CEST
DTSTART:20270328T010000
END:DAYLIGHT
BEGIN:STANDARD
TZOFFSETFROM:+0200
TZOFFSETTO:+0100
TZNAME:CET
DTSTART:20271031T010000
END:STANDARD
END:VTIMEZONE
BEGIN:VEVENT
DTSTART;VALUE=DATE:20261120
DTEND;VALUE=DATE:20261123
DTSTAMP:20260420T102857
CREATED:20260220T103225Z
LAST-MODIFIED:20260220T103225Z
UID:10000541-1795132800-1795391999@amarodrom.de
SUMMARY:Netzwerktreffen
DESCRIPTION:Dieses Jahr wird unser Netzwerktreffen in München stattfinden. Dort kommen Vertreter:innen unserer Mitgliedsorganisationen für ein Wochenende zusammen\, um sich auszutauschen\, über laufende Projekte zu berichten und gemeinsam an Strategien gegen Antiziganismus zu arbeiten. Das Treffen bietet Raum für Vernetzung\, Workshops und die Entwicklung neuer Ideen für unsere Vereinsarbeit.
URL:https://amarodrom.de/veranstaltung/netzwerktreffen-2026/
LOCATION:München
END:VEVENT
END:VCALENDAR